BEGIN:VCALENDAR
VERSION:2.0
PRODID:SchoolNow
CALSCALE:GREGORIAN
BEGIN:VEVENT
UID:3dd525ea-2739-11ee-afb6-02391457e42b
DTSTAMP:20230720T201505Z
SUMMARY:APMS Volleyball Arbor @ Worth
URL;VALUE=URI:https://www.arbor145.org/calendar/4502854/apms-volleyball-wor
 th
DTSTART;VALUE=DATE:20230829
DTEND;VALUE=DATE:20230830
END:VEVENT
END:VCALENDAR
