BEGIN:VCALENDAR
VERSION:2.0
PRODID:SchoolNow
CALSCALE:GREGORIAN
BEGIN:VEVENT
UID:5ca9870e-2739-11ee-afce-0a58a9feac02
DTSTAMP:20230720T200941Z
SUMMARY:APMS Picture Day
URL;VALUE=URI:https://www.arbor145.org/calendar/4502855/apms-picture-day
DTSTART;VALUE=DATE:20230829
DTEND;VALUE=DATE:20230830
END:VEVENT
END:VCALENDAR
