BEGIN:VCALENDAR
VERSION:2.0
PRODID:SchoolNow
CALSCALE:GREGORIAN
BEGIN:VEVENT
UID:cafbc47e-2739-11ee-8530-02391457e42b
DTSTAMP:20230720T201401Z
SUMMARY:APMS Expectation Night 5th & 6th grade
URL;VALUE=URI:https://www.arbor145.org/calendar/4502856/apms-expectation-ni
 ght-for-5th-6th-grade
DTSTART:20230830T213000Z
DTEND:20230830T230000Z
END:VEVENT
END:VCALENDAR
