BEGIN:VCALENDAR
VERSION:2.0
PRODID:SchoolNow
CALSCALE:GREGORIAN
BEGIN:VEVENT
UID:ee9b23c0-2739-11ee-a03b-029af40bd955
DTSTAMP:20230726T191510Z
SUMMARY:APMS Expectation Night 7th & 8th Grade
URL;VALUE=URI:https://www.arbor145.org/calendar/4502857/apms-expectation-ni
 ght-7th-8th-grade
DTSTART:20230830T231500Z
DTEND:20230831T004500Z
END:VEVENT
END:VCALENDAR
