BEGIN:VCALENDAR
VERSION:2.0
PRODID:SchoolNow
CALSCALE:GREGORIAN
BEGIN:VEVENT
UID:0e3c8c78-273a-11ee-80ea-0a32f09d2d93
DTSTAMP:20230720T201439Z
SUMMARY:APMS Volleyball Arbor vs Hille
URL;VALUE=URI:https://www.arbor145.org/calendar/4502858/apms-volleyball-arb
 or-vs-hille
DTSTART;VALUE=DATE:20230831
DTEND;VALUE=DATE:20230901
END:VEVENT
END:VCALENDAR
