BEGIN:VCALENDAR
VERSION:2.0
PRODID:SchoolNow
CALSCALE:GREGORIAN
BEGIN:VEVENT
UID:51f6ce7e-273a-11ee-848b-0a58a9feac02
DTSTAMP:20230720T201836Z
SUMMARY:Labor Day - School Closed
URL;VALUE=URI:https://www.arbor145.org/calendar/4502859/labor-day-no-school
DTSTART;VALUE=DATE:20230904
DTEND;VALUE=DATE:20230905
END:VEVENT
END:VCALENDAR
