BEGIN:VCALENDAR
VERSION:2.0
PRODID:SchoolNow
CALSCALE:GREGORIAN
BEGIN:VEVENT
UID:ce2637dc-273a-11ee-83e1-024120a62113
DTSTAMP:20230720T202001Z
SUMMARY:APMS Volleyball Arbor @ Central Park
URL;VALUE=URI:https://www.arbor145.org/calendar/4502860/apms-volleyball-arb
 or-central-park
DTSTART;VALUE=DATE:20230905
DTEND;VALUE=DATE:20230906
END:VEVENT
END:VCALENDAR
