BEGIN:VCALENDAR
VERSION:2.0
PRODID:SchoolNow
CALSCALE:GREGORIAN
BEGIN:VEVENT
UID:07cda538-273b-11ee-8c03-0a58a9feac02
DTSTAMP:20230720T202138Z
SUMMARY:APMS Star 360 Testing ELA
URL;VALUE=URI:https://www.arbor145.org/calendar/4502861/apms-star-360-testi
 ng-ela
DTSTART;VALUE=DATE:20230906
DTEND;VALUE=DATE:20230907
END:VEVENT
END:VCALENDAR
