BEGIN:VCALENDAR
VERSION:2.0
PRODID:SchoolNow
CALSCALE:GREGORIAN
BEGIN:VEVENT
UID:2641e844-273b-11ee-ae83-029af40bd955
DTSTAMP:20230720T202229Z
SUMMARY:APMS Volleyball Arbor vs Independence
URL;VALUE=URI:https://www.arbor145.org/calendar/4502862/apms-volleyball-arb
 or-vs-independence
DTSTART;VALUE=DATE:20230907
DTEND;VALUE=DATE:20230908
END:VEVENT
END:VCALENDAR
