BEGIN:VCALENDAR
VERSION:2.0
PRODID:SchoolNow
CALSCALE:GREGORIAN
BEGIN:VEVENT
UID:6e9cd838-273b-11ee-ae17-0a58a9feac02
DTSTAMP:20230720T202430Z
SUMMARY:APMS Star 360 Testing Math
URL;VALUE=URI:https://www.arbor145.org/calendar/4502863/apms-star-360-testi
 ng-math
DTSTART;VALUE=DATE:20230907
DTEND;VALUE=DATE:20230908
END:VEVENT
END:VCALENDAR
