BEGIN:VCALENDAR
VERSION:2.0
PRODID:SchoolNow
CALSCALE:GREGORIAN
BEGIN:VEVENT
UID:92f36986-273b-11ee-8525-02391457e42b
DTSTAMP:20230720T202712Z
SUMMARY:APMS 5th Grade Beginning Band Sign Up
URL;VALUE=URI:https://www.arbor145.org/calendar/4502864/apms-5th-grade-begi
 nning-band-sign-up
DTSTART:20230907T230000Z
DTEND:20230908T003000Z
END:VEVENT
END:VCALENDAR
