BEGIN:VCALENDAR
VERSION:2.0
PRODID:SchoolNow
CALSCALE:GREGORIAN
BEGIN:VEVENT
UID:f340bc30-273b-11ee-80b4-0a58a9feac02
DTSTAMP:20230720T202813Z
SUMMARY:APMS Volleyball Arbor vs Finley
URL;VALUE=URI:https://www.arbor145.org/calendar/4502865/apms-volleyball-arb
 or-vs-finley
DTSTART;VALUE=DATE:20230911
DTEND;VALUE=DATE:20230912
END:VEVENT
END:VCALENDAR
