BEGIN:VCALENDAR
VERSION:2.0
PRODID:SchoolNow
CALSCALE:GREGORIAN
BEGIN:VEVENT
UID:05e62d02-273c-11ee-ae77-02391457e42b
DTSTAMP:20230720T202844Z
SUMMARY:APMS Volleyball Arbor @ Hamlin
URL;VALUE=URI:https://www.arbor145.org/calendar/4502866/apms-volleyball-arb
 or-hamlin
DTSTART;VALUE=DATE:20230912
DTEND;VALUE=DATE:20230913
END:VEVENT
END:VCALENDAR
