BEGIN:VCALENDAR
VERSION:2.0
PRODID:SchoolNow
CALSCALE:GREGORIAN
BEGIN:VEVENT
UID:126a2b8c-273c-11ee-bb37-0a2b130c3785
DTSTAMP:20230720T202905Z
SUMMARY:APMS Volleyball Arbor vs Kolmar
URL;VALUE=URI:https://www.arbor145.org/calendar/4502867/apms-volleyball-arb
 or-vs-kolmar
DTSTART;VALUE=DATE:20230914
DTEND;VALUE=DATE:20230915
END:VEVENT
END:VCALENDAR
