BEGIN:VCALENDAR
VERSION:2.0
PRODID:SchoolNow
CALSCALE:GREGORIAN
BEGIN:VEVENT
UID:23b96c36-273c-11ee-a8fb-0a58a9feac02
DTSTAMP:20230720T202934Z
SUMMARY:APMS Volleyball Arbor @ Wilkins
URL;VALUE=URI:https://www.arbor145.org/calendar/4502868/apms-volleyball-arb
 or-wilkins
DTSTART;VALUE=DATE:20230918
DTEND;VALUE=DATE:20230919
END:VEVENT
END:VCALENDAR
