BEGIN:VCALENDAR
VERSION:2.0
PRODID:SchoolNow
CALSCALE:GREGORIAN
BEGIN:VEVENT
UID:2f7db220-273c-11ee-8b6e-0a58a9feac02
DTSTAMP:20230720T202954Z
SUMMARY:APMS Volleyball Arbor @ Prairie
URL;VALUE=URI:https://www.arbor145.org/calendar/4502869/apms-volleyball-arb
 or-prairie
DTSTART;VALUE=DATE:20230919
DTEND;VALUE=DATE:20230920
END:VEVENT
END:VCALENDAR
