BEGIN:VCALENDAR
VERSION:2.0
PRODID:SchoolNow
CALSCALE:GREGORIAN
BEGIN:VEVENT
UID:52d887f4-273c-11ee-8653-0a58a9feac02
DTSTAMP:20230720T203053Z
SUMMARY:APMS Volleyball Tournament Playoffs TBD
URL;VALUE=URI:https://www.arbor145.org/calendar/4502870/apms-volleyball-tou
 rnament-playoffs-tbd
DTSTART;VALUE=DATE:20230921
DTEND;VALUE=DATE:20230922
END:VEVENT
END:VCALENDAR
