BEGIN:VCALENDAR
VERSION:2.0
PRODID:SchoolNow
CALSCALE:GREGORIAN
BEGIN:VEVENT
UID:752a5eea-273c-11ee-b2e6-0a58a9feac02
DTSTAMP:20230720T203350Z
SUMMARY:APMS Volleyball Tournament @ Wilkins
URL;VALUE=URI:https://www.arbor145.org/calendar/4502871/apms-volleyball-tor
 nament-wilkins
DTSTART;VALUE=DATE:20230926
DTEND;VALUE=DATE:20230927
END:VEVENT
END:VCALENDAR
