BEGIN:VCALENDAR
VERSION:2.0
PRODID:SchoolNow
CALSCALE:GREGORIAN
BEGIN:VEVENT
UID:b166e04a-273c-11ee-a412-0a58a9feac02
DTSTAMP:20230727T015353Z
SUMMARY:APMS Volleyball Tournament @ Wilkins
URL;VALUE=URI:https://www.arbor145.org/calendar/4502872/apms-volleyball-tou
 rnament-wilkins
DTSTART;VALUE=DATE:20230928
DTEND;VALUE=DATE:20230929
END:VEVENT
END:VCALENDAR
