BEGIN:VCALENDAR
VERSION:2.0
PRODID:SchoolNow
CALSCALE:GREGORIAN
BEGIN:VEVENT
UID:d24e07f2-273c-11ee-8810-0a58a9feac02
DTSTAMP:20230720T203427Z
SUMMARY:APMS Volleyball Tournament @ Wilkins
URL;VALUE=URI:https://www.arbor145.org/calendar/4502873/apms-volleyball-tou
 rnament-wilkins
DTSTART;VALUE=DATE:20231003
DTEND;VALUE=DATE:20231004
END:VEVENT
END:VCALENDAR
