BEGIN:VCALENDAR
VERSION:2.0
PRODID:SchoolNow
CALSCALE:GREGORIAN
BEGIN:VEVENT
UID:0823c5ba-273d-11ee-aeed-0a58a9feac02
DTSTAMP:20230720T203557Z
SUMMARY:APMS Volleyball Tournament Championship @ Wilkins
URL;VALUE=URI:https://www.arbor145.org/calendar/4502875/apms-volleyball-tou
 rnament-championship-wilkins
DTSTART;VALUE=DATE:20231005
DTEND;VALUE=DATE:20231006
END:VEVENT
END:VCALENDAR
