BEGIN:VCALENDAR
VERSION:2.0
PRODID:SchoolNow
CALSCALE:GREGORIAN
BEGIN:VEVENT
UID:258e8ae0-273d-11ee-a2c9-0a2b130c3785
DTSTAMP:20230720T203647Z
SUMMARY:Mid-Trimester I Progress Reports Available in ALMA
URL;VALUE=URI:https://www.arbor145.org/calendar/4502876/mid-trimester-i-pro
 gress-reports-available-in-alma
DTSTART;VALUE=DATE:20231006
DTEND;VALUE=DATE:20231007
END:VEVENT
END:VCALENDAR
