BEGIN:VCALENDAR
VERSION:2.0
PRODID:SchoolNow
CALSCALE:GREGORIAN
BEGIN:VEVENT
UID:542efa10-273d-11ee-ad35-0a58a9feac02
DTSTAMP:20230720T203805Z
SUMMARY:APMS Volleyball All Star Game @ APMS
URL;VALUE=URI:https://www.arbor145.org/calendar/4502879/apms-volleyball-all
 -star-game-apms
DTSTART;VALUE=DATE:20231010
DTEND;VALUE=DATE:20231011
END:VEVENT
END:VCALENDAR
