BEGIN:VCALENDAR
VERSION:2.0
PRODID:SchoolNow
CALSCALE:GREGORIAN
BEGIN:VEVENT
UID:6f0deb84-273d-11ee-9fec-0a2b130c3785
DTSTAMP:20230720T203850Z
SUMMARY:APMS GBB Arbor vs Hille
URL;VALUE=URI:https://www.arbor145.org/calendar/4502880/apms-gbb-arbor-vs-h
 ille
DTSTART;VALUE=DATE:20231011
DTEND;VALUE=DATE:20231012
END:VEVENT
END:VCALENDAR
