BEGIN:VCALENDAR
VERSION:2.0
PRODID:SchoolNow
CALSCALE:GREGORIAN
BEGIN:VEVENT
UID:7f32d57e-273d-11ee-8531-02391457e42b
DTSTAMP:20230720T203917Z
SUMMARY:APMS GBB Arbor vs Central Park
URL;VALUE=URI:https://www.arbor145.org/calendar/4502881/apms-gbb-arbor-vs-c
 entral-park
DTSTART;VALUE=DATE:20231017
DTEND;VALUE=DATE:20231018
END:VEVENT
END:VCALENDAR
