BEGIN:VCALENDAR
VERSION:2.0
PRODID:SchoolNow
CALSCALE:GREGORIAN
BEGIN:VEVENT
UID:052b66bc-2bd2-11ee-99d6-0a58a9feac02
DTSTAMP:20230726T163232Z
SUMMARY:APMS Picture Retakes
URL;VALUE=URI:https://www.arbor145.org/calendar/4522980/apms-picture-retake
 s
DTSTART;VALUE=DATE:20231017
DTEND;VALUE=DATE:20231018
END:VEVENT
END:VCALENDAR
