BEGIN:VCALENDAR
VERSION:2.0
PRODID:SchoolNow
CALSCALE:GREGORIAN
BEGIN:VEVENT
UID:1d932190-2bd2-11ee-97b5-026c53c55dab
DTSTAMP:20230726T163313Z
SUMMARY:APMS GBB Arbor @ Hamlin
URL;VALUE=URI:https://www.arbor145.org/calendar/4522981/apms-gbb-arbor-haml
 in
DTSTART;VALUE=DATE:20231019
DTEND;VALUE=DATE:20231020
END:VEVENT
END:VCALENDAR
