BEGIN:VCALENDAR
VERSION:2.0
PRODID:SchoolNow
CALSCALE:GREGORIAN
BEGIN:VEVENT
UID:52378954-2bd2-11ee-83c8-026c53c55dab
DTSTAMP:20230726T163441Z
SUMMARY:APMS GBB Arbor vs Wilkins
URL;VALUE=URI:https://www.arbor145.org/calendar/4522982/apms-gbb-arbor-vs-w
 ilkins
DTSTART;VALUE=DATE:20231023
DTEND;VALUE=DATE:20231024
END:VEVENT
END:VCALENDAR
