BEGIN:VCALENDAR
VERSION:2.0
PRODID:SchoolNow
CALSCALE:GREGORIAN
BEGIN:VEVENT
UID:c94a3456-2bd2-11ee-b4bc-0a58a9feac02
DTSTAMP:20230726T163801Z
SUMMARY:Red Ribbon Week
URL;VALUE=URI:https://www.arbor145.org/calendar/4522984/red-ribbon-week
DTSTART;VALUE=DATE:20231023
DTEND;VALUE=DATE:20231028
END:VEVENT
END:VCALENDAR
