BEGIN:VCALENDAR
VERSION:2.0
PRODID:SchoolNow
CALSCALE:GREGORIAN
BEGIN:VEVENT
UID:d37355d4-2bd2-11ee-82d8-0a58a9feac02
DTSTAMP:20230726T163818Z
SUMMARY:Red Ribbon Week
URL;VALUE=URI:https://www.arbor145.org/calendar/4522985/red-ribbon-week
DTSTART;VALUE=DATE:20231030
DTEND;VALUE=DATE:20231101
END:VEVENT
END:VCALENDAR
