BEGIN:VCALENDAR
VERSION:2.0
PRODID:SchoolNow
CALSCALE:GREGORIAN
BEGIN:VEVENT
UID:f57d1f34-2bd2-11ee-ac86-0a58a9feac02
DTSTAMP:20230726T163915Z
SUMMARY:APMS GBB Arbor @ Finley
URL;VALUE=URI:https://www.arbor145.org/calendar/4522986/apms-gbb-arbor-finl
 ey
DTSTART;VALUE=DATE:20231024
DTEND;VALUE=DATE:20231025
END:VEVENT
END:VCALENDAR
