BEGIN:VCALENDAR
VERSION:2.0
PRODID:SchoolNow
CALSCALE:GREGORIAN
BEGIN:VEVENT
UID:0197bb12-2bd3-11ee-8f76-02ef8f5c4d55
DTSTAMP:20230726T163935Z
SUMMARY:APMS Arbor @ Worth
URL;VALUE=URI:https://www.arbor145.org/calendar/4522987/apms-arbor-worth
DTSTART;VALUE=DATE:20231026
DTEND;VALUE=DATE:20231027
END:VEVENT
END:VCALENDAR
