BEGIN:VCALENDAR
VERSION:2.0
PRODID:SchoolNow
CALSCALE:GREGORIAN
BEGIN:VEVENT
UID:135ae568-2bd3-11ee-aa8a-0a58a9feac02
DTSTAMP:20230726T164005Z
SUMMARY:APMS GBB Arbor vs Kolmar
URL;VALUE=URI:https://www.arbor145.org/calendar/4522989/apms-gbb-arbor-vs-k
 olmar
DTSTART;VALUE=DATE:20231030
DTEND;VALUE=DATE:20231031
END:VEVENT
END:VCALENDAR
