BEGIN:VCALENDAR
VERSION:2.0
PRODID:SchoolNow
CALSCALE:GREGORIAN
BEGIN:VEVENT
UID:253c2d32-2bd3-11ee-b2f7-026c53c55dab
DTSTAMP:20230726T164035Z
SUMMARY:AOMS GBB Arbor vs Hamlin
URL;VALUE=URI:https://www.arbor145.org/calendar/4522991/aoms-gbb-arbor-vs-h
 amlin
DTSTART;VALUE=DATE:20231101
DTEND;VALUE=DATE:20231102
END:VEVENT
END:VCALENDAR
