BEGIN:VCALENDAR
VERSION:2.0
PRODID:SchoolNow
CALSCALE:GREGORIAN
BEGIN:VEVENT
UID:37369dec-2bd3-11ee-bacf-0a58a9feac02
DTSTAMP:20230726T164105Z
SUMMARY:APMS GBB Arbor @ Hille
URL;VALUE=URI:https://www.arbor145.org/calendar/4522994/apms-gbb-arbor-hill
 e
DTSTART;VALUE=DATE:20231102
DTEND;VALUE=DATE:20231103
END:VEVENT
END:VCALENDAR
