BEGIN:VCALENDAR
VERSION:2.0
PRODID:SchoolNow
CALSCALE:GREGORIAN
BEGIN:VEVENT
UID:482b92b0-2bd3-11ee-bfb8-0e6883f767cf
DTSTAMP:20230726T164134Z
SUMMARY:APMS GBB Arbor @ Central Park
URL;VALUE=URI:https://www.arbor145.org/calendar/4522995/apms-gbb-arbor-cent
 ral-park
DTSTART;VALUE=DATE:20231107
DTEND;VALUE=DATE:20231108
END:VEVENT
END:VCALENDAR
