BEGIN:VCALENDAR
VERSION:2.0
PRODID:SchoolNow
CALSCALE:GREGORIAN
BEGIN:VEVENT
UID:5699c538-2bd3-11ee-a88e-0a58a9feac02
DTSTAMP:20230726T164158Z
SUMMARY:APMS GBB Arbor vs Prairie
URL;VALUE=URI:https://www.arbor145.org/calendar/4522996/apms-gbb-arbor-vs-p
 rairie
DTSTART;VALUE=DATE:20231109
DTEND;VALUE=DATE:20231110
END:VEVENT
END:VCALENDAR
