BEGIN:VCALENDAR
VERSION:2.0
PRODID:SchoolNow
CALSCALE:GREGORIAN
BEGIN:VEVENT
UID:6921a2ac-2bd3-11ee-9ebe-0a98f260fbcb
DTSTAMP:20230726T164229Z
SUMMARY:Trimester I Ends
URL;VALUE=URI:https://www.arbor145.org/calendar/4522997/trimester-i-ends
DTSTART;VALUE=DATE:20231110
DTEND;VALUE=DATE:20231111
END:VEVENT
END:VCALENDAR
