BEGIN:VCALENDAR
VERSION:2.0
PRODID:SchoolNow
CALSCALE:GREGORIAN
BEGIN:VEVENT
UID:77a8e90c-2bd3-11ee-8e6a-0a58a9feac02
DTSTAMP:20230726T164254Z
SUMMARY:Timester II Begins
URL;VALUE=URI:https://www.arbor145.org/calendar/4522998/timester-ii-begins
DTSTART;VALUE=DATE:20231113
DTEND;VALUE=DATE:20231114
END:VEVENT
END:VCALENDAR
