BEGIN:VCALENDAR
VERSION:2.0
PRODID:SchoolNow
CALSCALE:GREGORIAN
BEGIN:VEVENT
UID:9223d076-2bd3-11ee-afdd-0a98f260fbcb
DTSTAMP:20230726T164338Z
SUMMARY:APMS GBB Arbor vs Independence
URL;VALUE=URI:https://www.arbor145.org/calendar/4522999/apms-gbb-arbor-vs-i
 ndependence
DTSTART;VALUE=DATE:20231114
DTEND;VALUE=DATE:20231115
END:VEVENT
END:VCALENDAR
