BEGIN:VCALENDAR
VERSION:2.0
PRODID:SchoolNow
CALSCALE:GREGORIAN
BEGIN:VEVENT
UID:ad2ec916-2bd3-11ee-9325-0a98f260fbcb
DTSTAMP:20230726T164423Z
SUMMARY:Trimester I Grades Due
URL;VALUE=URI:https://www.arbor145.org/calendar/4523000/trimester-i-grades-
 due
DTSTART;VALUE=DATE:20231115
DTEND;VALUE=DATE:20231116
END:VEVENT
END:VCALENDAR
