BEGIN:VCALENDAR
VERSION:2.0
PRODID:SchoolNow
CALSCALE:GREGORIAN
BEGIN:VEVENT
UID:126d3b00-2bd4-11ee-8f34-0e6883f767cf
DTSTAMP:20230726T164713Z
SUMMARY:APMS GBB Arbor vs Kolmar
URL;VALUE=URI:https://www.arbor145.org/calendar/4523001/apms-gbb-arbor-vs-k
 olmar
DTSTART;VALUE=DATE:20231116
DTEND;VALUE=DATE:20231117
END:VEVENT
END:VCALENDAR
