BEGIN:VCALENDAR
VERSION:2.0
PRODID:SchoolNow
CALSCALE:GREGORIAN
BEGIN:VEVENT
UID:241f584c-2bd4-11ee-a13f-0a58a9feac02
DTSTAMP:20230726T164743Z
SUMMARY:APMS Student Senate @ Worth
URL;VALUE=URI:https://www.arbor145.org/calendar/4523002/apms-student-senate
 -worth
DTSTART;VALUE=DATE:20231116
DTEND;VALUE=DATE:20231117
END:VEVENT
END:VCALENDAR
