BEGIN:VCALENDAR
VERSION:2.0
PRODID:SchoolNow
CALSCALE:GREGORIAN
BEGIN:VEVENT
UID:376a663a-2bd4-11ee-96bb-0a58a9feac02
DTSTAMP:20230726T164815Z
SUMMARY:Trimester I Report Cards Available in ALMA
URL;VALUE=URI:https://www.arbor145.org/calendar/4523003/trimester-i-report-
 cards-available-in-alma
DTSTART;VALUE=DATE:20231117
DTEND;VALUE=DATE:20231118
END:VEVENT
END:VCALENDAR
