BEGIN:VCALENDAR
VERSION:2.0
PRODID:SchoolNow
CALSCALE:GREGORIAN
BEGIN:VEVENT
UID:6d18715a-2bd4-11ee-bd87-0a58a9feac02
DTSTAMP:20230726T164945Z
SUMMARY:School Closed
URL;VALUE=URI:https://www.arbor145.org/calendar/4523004/school-closed
DTSTART;VALUE=DATE:20231122
DTEND;VALUE=DATE:20231123
END:VEVENT
END:VCALENDAR
