BEGIN:VCALENDAR
VERSION:2.0
PRODID:SchoolNow
CALSCALE:GREGORIAN
BEGIN:VEVENT
UID:7ae1a1b2-2bd4-11ee-a4d5-0e6883f767cf
DTSTAMP:20230726T165008Z
SUMMARY:Thanksgiving Day - School Closed
URL;VALUE=URI:https://www.arbor145.org/calendar/4523005/thanksgiving-day-sc
 hool-closed
DTSTART;VALUE=DATE:20231123
DTEND;VALUE=DATE:20231124
END:VEVENT
END:VCALENDAR
