BEGIN:VCALENDAR
VERSION:2.0
PRODID:SchoolNow
CALSCALE:GREGORIAN
BEGIN:VEVENT
UID:8370bebc-2bd4-11ee-8536-02ef8f5c4d55
DTSTAMP:20230726T165023Z
SUMMARY:School Closed
URL;VALUE=URI:https://www.arbor145.org/calendar/4523006/school-closed
DTSTART;VALUE=DATE:20231124
DTEND;VALUE=DATE:20231125
END:VEVENT
END:VCALENDAR
