BEGIN:VCALENDAR
VERSION:2.0
PRODID:SchoolNow
CALSCALE:GREGORIAN
BEGIN:VEVENT
UID:9ff9a49a-2bd4-11ee-bb55-0a98f260fbcb
DTSTAMP:20230726T165111Z
SUMMARY:APMS GBB Tournament Playoffs TBD
URL;VALUE=URI:https://www.arbor145.org/calendar/4523007/apms-gbb-tournament
 -playoffs-tbd
DTSTART;VALUE=DATE:20231128
DTEND;VALUE=DATE:20231129
END:VEVENT
END:VCALENDAR
