BEGIN:VCALENDAR
VERSION:2.0
PRODID:SchoolNow
CALSCALE:GREGORIAN
BEGIN:VEVENT
UID:b7dbdbdc-2bd4-11ee-b18b-0a58a9feac02
DTSTAMP:20230727T015711Z
SUMMARY:APMS  Tournament Playoffs TBD
URL;VALUE=URI:https://www.arbor145.org/calendar/4523008/apms-tournament-pla
 yoffs-tbd
DTSTART;VALUE=DATE:20231130
DTEND;VALUE=DATE:20231201
END:VEVENT
END:VCALENDAR
