BEGIN:VCALENDAR
VERSION:2.0
PRODID:SchoolNow
CALSCALE:GREGORIAN
BEGIN:VEVENT
UID:a00e276e-2be1-11ee-8240-0a98f260fbcb
DTSTAMP:20230726T182437Z
SUMMARY:APMS GBB Tournament Playoffs @ Arbor
URL;VALUE=URI:https://www.arbor145.org/calendar/4523413/apms-gbb-tournament
 -playoffs-arbor
DTSTART;VALUE=DATE:20231205
DTEND;VALUE=DATE:20231206
END:VEVENT
END:VCALENDAR
